BEGIN:VCALENDAR
VERSION:2.0
PRODID:-//CDH - ECPv6.15.18//NONSGML v1.0//EN
CALSCALE:GREGORIAN
METHOD:PUBLISH
X-WR-CALNAME:CDH
X-ORIGINAL-URL:https://cdh.de
X-WR-CALDESC:Veranstaltungen für CDH
REFRESH-INTERVAL;VALUE=DURATION:PT1H
X-Robots-Tag:noindex
X-PUBLISHED-TTL:PT1H
BEGIN:VTIMEZONE
TZID:Europe/Berlin
BEGIN:DAYLIGHT
TZOFFSETFROM:+0100
TZOFFSETTO:+0200
TZNAME:CEST
DTSTART:20190331T010000
END:DAYLIGHT
BEGIN:STANDARD
TZOFFSETFROM:+0200
TZOFFSETTO:+0100
TZNAME:CET
DTSTART:20191027T010000
END:STANDARD
BEGIN:DAYLIGHT
TZOFFSETFROM:+0100
TZOFFSETTO:+0200
TZNAME:CEST
DTSTART:20200329T010000
END:DAYLIGHT
BEGIN:STANDARD
TZOFFSETFROM:+0200
TZOFFSETTO:+0100
TZNAME:CET
DTSTART:20201025T010000
END:STANDARD
BEGIN:DAYLIGHT
TZOFFSETFROM:+0100
TZOFFSETTO:+0200
TZNAME:CEST
DTSTART:20210328T010000
END:DAYLIGHT
BEGIN:STANDARD
TZOFFSETFROM:+0200
TZOFFSETTO:+0100
TZNAME:CET
DTSTART:20211031T010000
END:STANDARD
END:VTIMEZONE
BEGIN:VEVENT
DTSTART;TZID=Europe/Berlin:20200621T170000
DTEND;TZID=Europe/Berlin:20200623T160000
DTSTAMP:20260422T102417
CREATED:20200129T091756Z
LAST-MODIFIED:20200609T090831Z
UID:8780-1592758800-1592928000@cdh.de
SUMMARY:CDH-Vertriebs-Sommercamp 2020
DESCRIPTION:„Erfolgreiches Vertriebs-Management – Kunden verstehen und mit den richtigen Argumenten verkaufen“ – unter diesem Motto  findet auch 2020 wieder das CDH-Vertriebs-Sommercamp – digital über GOTOMEETING – statt. \nNach Ihrer Anmeldung erhalten Sie für jeden Tag einen separaten Einwahlcode\, über den Sie sich dann aufschalten können. \nEs wäre von Vorteil\, wenn Sie sich im Vorfeld die GotoMeeting-App runterladen würden. Ebenso wäre ein Mikrofon und eine Kamera für den Erfahrungsaustausch von Vorteil. Ihre Fragen können aber auch über den Chat in die Gruppe formuliert werden. Sie haben noch nie an einem GOTOMEETING Meeting teilgenommen? Kein Problem. Wir helfen Ihnen bei der Installation. Schreiben Sie uns oder rufen Sie uns an: \nTel. 0711 – 214 755 0 \nE-Mail: info@cdhbw.de \nWie geplant\, würden wir mit dem Best Practice Austausch am Sonntag abend starten. Dieser Punkt war von vielen gewünscht\, deshalb haben wir dafür ein Zeitfenster von 1\,5 Stunden angesetzt. \nDie weiteren Referate finden dann am Montag und Dienstag gemäß Zeitplan statt. \nWIR\, das OrgaTeam des CDH und die Referenten freuen uns auf Sie. Der Preis für die 2\,2 Tage Input beträgt für CDH-Mitglieder sensationelle 199.- Euro. \nWir wünschen Ihnen weiterhin alles Beste und sagen schon jetzt AUF WIEDERSEHEN am 21.06.2020! \nProgramm\nAnmeldung\n 
URL:https://cdh.de/event/cdh-vertriebs-sommercamp-2020/
CATEGORIES:Seminare & Workshops
ATTACH;FMTTYPE=image/jpeg:https://cdh.de/wp-content/uploads/2020/01/Wasems-Kloster-Engelthal-Event.jpg
ORGANIZER;CN="CDH-Wirtschaftsverband f%C3%BCr Vertrieb e. V. %E2%80%93 Landesverband Baden-W%C3%BCrttemberg":MAILTO:info@cdhbw.de
END:VEVENT
END:VCALENDAR