BEGIN:VCALENDAR
VERSION:2.0
PRODID:-//CDH - ECPv6.15.18//NONSGML v1.0//EN
CALSCALE:GREGORIAN
METHOD:PUBLISH
X-WR-CALNAME:CDH
X-ORIGINAL-URL:https://cdh.de
X-WR-CALDESC:Veranstaltungen für CDH
REFRESH-INTERVAL;VALUE=DURATION:PT1H
X-Robots-Tag:noindex
X-PUBLISHED-TTL:PT1H
BEGIN:VTIMEZONE
TZID:Europe/Berlin
BEGIN:DAYLIGHT
TZOFFSETFROM:+0100
TZOFFSETTO:+0200
TZNAME:CEST
DTSTART:20230326T010000
END:DAYLIGHT
BEGIN:STANDARD
TZOFFSETFROM:+0200
TZOFFSETTO:+0100
TZNAME:CET
DTSTART:20231029T010000
END:STANDARD
BEGIN:DAYLIGHT
TZOFFSETFROM:+0100
TZOFFSETTO:+0200
TZNAME:CEST
DTSTART:20240331T010000
END:DAYLIGHT
BEGIN:STANDARD
TZOFFSETFROM:+0200
TZOFFSETTO:+0100
TZNAME:CET
DTSTART:20241027T010000
END:STANDARD
BEGIN:DAYLIGHT
TZOFFSETFROM:+0100
TZOFFSETTO:+0200
TZNAME:CEST
DTSTART:20250330T010000
END:DAYLIGHT
BEGIN:STANDARD
TZOFFSETFROM:+0200
TZOFFSETTO:+0100
TZNAME:CET
DTSTART:20251026T010000
END:STANDARD
END:VTIMEZONE
BEGIN:VEVENT
DTSTART;TZID=Europe/Berlin:20240417T160000
DTEND;TZID=Europe/Berlin:20240417T170000
DTSTAMP:20260424T101003
CREATED:20240408T132541Z
LAST-MODIFIED:20240408T152303Z
UID:31931-1713369600-1713373200@cdh.de
SUMMARY:17.04.2024 - Infoveranstaltung zum Digital Sales Manager
DESCRIPTION:Infoveranstaltung am 17.04.2024\nInfoveranstaltung \nIHK zertifizierter Digital Sales Manager – Zukunft Ihres Vertriebserfolgs\nEntdecken Sie die Zukunft Ihres Vertriebserfolgs! \nGerne laden wir Sie zur Teilnahme an unserer Informationsveranstaltung zum\nIHK-Online-Zertifikatslehrgang „Digital Sales Manager“ ein. \nErleben Sie aus erster Hand Erfahrungsberichte von ehemaligen Teilnehmern und Referenten des Lehrgangs. \nWeiterhin informieren wir Sie über: \n\nDie praxisorientierten Seminare des Lehrgangs.\nUnsere innovativen Module\, wie den „Einsatz von ChatGPT im Vertrieb“.\nWie Sie ein IHK-Zertifikat oder eine Teilnahmebestätigung durch modulweise Buchungsoptionen für maximale Flexibilität erhalten können.\n\nMachen Sie den nächsten Schritt in Ihrer Karriere und gestalten Sie Ihre Weiterbildung nach Ihren eigenen Anforderungen.\nSichern Sie sich jetzt Ihren Platz für eine zukunftsorientierte Entwicklung! \nWir freuen uns darauf\, Sie bei unserer Infoveranstaltung zum „Digital Sales Manager“ begrüßen zu dürfen. \n17. April 2024 – jetzt anmelden
URL:https://cdh-mitte.de/event/17-04-2024-infoveranstaltung-zum-digital-sales-manager/
LOCATION:Rückforderung der Corona-Soforthilfe bei vorheriger Zahlungsunfähigkeit
CATEGORIES:Sales Manager
ATTACH;FMTTYPE=image/jpeg:https://cdh.de/wp-content/uploads/2024/04/Bild-Titelseite_6994050_6663100_5885508_5455762_6055254_8308766_2946918_5128234_5484241.jpg
END:VEVENT
END:VCALENDAR