BEGIN:VCALENDAR
VERSION:2.0
PRODID:-//CDH - ECPv6.15.18//NONSGML v1.0//EN
CALSCALE:GREGORIAN
METHOD:PUBLISH
X-WR-CALNAME:CDH
X-ORIGINAL-URL:https://cdh.de
X-WR-CALDESC:Veranstaltungen für CDH
REFRESH-INTERVAL;VALUE=DURATION:PT1H
X-Robots-Tag:noindex
X-PUBLISHED-TTL:PT1H
BEGIN:VTIMEZONE
TZID:Europe/Berlin
BEGIN:DAYLIGHT
TZOFFSETFROM:+0100
TZOFFSETTO:+0200
TZNAME:CEST
DTSTART:20250330T010000
END:DAYLIGHT
BEGIN:STANDARD
TZOFFSETFROM:+0200
TZOFFSETTO:+0100
TZNAME:CET
DTSTART:20251026T010000
END:STANDARD
BEGIN:DAYLIGHT
TZOFFSETFROM:+0100
TZOFFSETTO:+0200
TZNAME:CEST
DTSTART:20260329T010000
END:DAYLIGHT
BEGIN:STANDARD
TZOFFSETFROM:+0200
TZOFFSETTO:+0100
TZNAME:CET
DTSTART:20261025T010000
END:STANDARD
BEGIN:DAYLIGHT
TZOFFSETFROM:+0100
TZOFFSETTO:+0200
TZNAME:CEST
DTSTART:20270328T010000
END:DAYLIGHT
BEGIN:STANDARD
TZOFFSETFROM:+0200
TZOFFSETTO:+0100
TZNAME:CET
DTSTART:20271031T010000
END:STANDARD
END:VTIMEZONE
BEGIN:VEVENT
DTSTART;TZID=Europe/Berlin:20260416T080000
DTEND;TZID=Europe/Berlin:20260425T170000
DTSTAMP:20260422T175646
CREATED:20251218T105719Z
LAST-MODIFIED:20260218T081105Z
UID:53434-1776326400-1777136400@cdh.de
SUMMARY:Digital Sales Manager mit KI-Kompetenz - Jetzt IHK-zertifiziert durchstarten
DESCRIPTION:Überblick\n\nDigitalisierung und Künstliche Intelligenz verändern den Vertrieb – rasant und nachhaltig. Mit dem neu konzipierten IHK-Zertifikatslehrgang „Digital Sales Manager mit KI-Kompetenz“ machen Sie Ihre Vertriebsarbeit zukunftsfähig und marktorientiert. \nDer Lehrgang basiert auf dem etablierten IHK-Lehrgang und wurde um KI-Schwerpunkte sowie neue praxisnahe Referenten aus dem Vertriebsumfeld erweitert. Dabei profitieren Sie von der idealen Kombination aus bewährtem Vertriebswissen und innovativer Zukunftstechnologie – 100 % online und praxisnah. \nDas Ziel: Ihr IHK-Zertifikat\n\nDas Modul ist klar gegliedert – ideal um umfassende Kenntnisse zu erlangen\nBei erfolgreichem Abschluss  erhalten Sie das IHK-Zertifikat „Digital Sales Manager mit KI-Kompetenz“.\n\nIhr Nutzen:\n\nSie verstehen\, wie moderne Tools und KI-Systeme Ihren Vertrieb effizienter\, kundenorientierter und messbar erfolgreicher machen.\nSie können sofort konkrete Anwendungen wie CRM-Systeme\, KI-gestützte Tools und ChatGPT in Ihren Arbeitsalltag integrieren.\nSie entwickeln Ihre digitale Vertriebsstrategie – unabhängig davon\, ob Sie Einsteiger sind oder bereits Erfahrung mitbringen.\n\nZielgruppe:\n\nHandelsvertreter\, Vertriebsprofis und Mitarbeitende aus vertriebsnahen Abteilungen\nAuch ideal für digitale Neueinsteiger\, die ihre Vertriebskompetenz gezielt aufbauen wollen\n\n\n\n \nDetlef Persin \n\nHaben Sie Fragen zum Lehrgang? Dann melden Sie sich gerne bei Detlef Persin. \nEr kann Ihnen alle Fragen und Hilfestellungen rund um den Lehrgang geben. \nTelefon: 0641 7950333 \nMail: dp@naos-office.de \nMehr Informationen
URL:https://cdh-mitte.de/event/digital-sales-manager-mit-ki-kompetenz-jetzt-ihk-zertifiziert-durchstarten/
LOCATION:Rückforderung der Corona-Soforthilfe bei vorheriger Zahlungsunfähigkeit
CATEGORIES:CDH Mitte Veranstaltungen
ATTACH;FMTTYPE=image/jpeg:https://cdh.de/wp-content/uploads/2025/12/DSM24-Bannerbild3.jpg
END:VEVENT
BEGIN:VEVENT
DTSTART;TZID=Europe/Berlin:20260422T100000
DTEND;TZID=Europe/Berlin:20260422T160000
DTSTAMP:20260422T175646
CREATED:20251218T095916Z
LAST-MODIFIED:20260218T081019Z
UID:53424-1776852000-1776873600@cdh.de
SUMMARY:Vertriebssprechstunde
DESCRIPTION:Unser Service – Ihr Schlüssel zum Vertriebserfolg! \nAuch die Mitglieder des CDH Baden-Württemberg & CDH NOW! können die Vertriebssprechstunde nutzen! \nHandelsvertreter und Vertriebsmitarbeiter stehen im Tagesgeschäft oftmals vor einer Vielzahl von Fragestellungen zu den unterschiedlichsten Vertriebsthemen. Diese hängen natürlich stark von der jeweiligen Branche\, dem Produkt oder der Dienstleistung ab\, die Sie vertreten. \nNächster Termin Donnerstag\, 22.04.2026 \n\n10:00 – 11:00 Uhr\n11:15 – 12:15 Uhr\n12:30 – 13:30 Uhr\n13:45 – 14:45 Uhr\n15:00 – 16:00 Uhr\n\nWeitere Termine in 2026: \n\n15.07.2026\n04.11.2026\n\nWir bieten diese Beratung weiterhin telefonisch oder als Videocall über Zoom an. \n\n\nAnmeldung (wird 6 Wochen vor Veranstaltung freigeschaltet)Hierbei müssen Sie nicht alleine bleiben – der CDH unterstützt seine Mitglieder und ebenso diejenigen\, die es noch werden möchten. \nSie bekommen kostenfrei Ihre persönliche Vertriebssprechstunde\, in der wir Ihre praktischen und strategischen Fragestellungen rund um den Vertrieb in allen Facetten abklären. \nIm Folgenden finden Sie eine Auswahl Ihrer spezifischen Themen\, die während der Sprechstunde diskutiert werden können\, und bei denen Ihr Gesprächspartner Ihnen Unterstützung bieten kann: \n\nDefinition des Zielmarkts und der Zielgruppe\nVertriebsstrategien\nUmgang mit anspruchsvollen Kunden\, Auftraggebern oder Vorgesetzten\nProvisions- und Geschäftsmodelle\nStrategische Fragen bezüglich CRM und digitaler Vertrieb\nTipps für schwierige Verkaufssituationen\nWeiterbildungsempfehlungen im Vertrieb\nPreisstrategie und Konditionen\n\nSelbstverständlich wird Ihnen auch für weitere Vertriebsthemen\, die Ihnen unter den Nägeln brennen\, genug Raum gegeben. \nIhr Gesprächspartner verfügt über ausreichend Vertriebserfahrung\, um Ihre Fragen zu beantworten und Sie zu beraten. Je nach Ihren spezifischen Geschäftsfeldern und Produkten können Sie Ihre individuellen Vertriebsthemen gerne mit ihm diskutieren. \nDetlef Persin\, Leiter der CDH Akademie\, ist Experte für anspruchsvolle Vertriebsaufgaben. Mit Erfahrung in der Leitung von internationalen Vertriebsabteilungen\, sowohl mit Handelsvertretern als auch mit angestellten Vertriebsmitarbeitern\, und darüber hinaus in weiteren Vertriebskanälen\, bringt er vielseitige Expertise mit. \nSeine langjährige Tätigkeit vom Junior-Vertriebsmitarbeiter bis zum Vertriebsmanager\, Coach und Trainer machen ihn zu einem erfahrenen Sparringspartner für Ihre individuellen Vertriebsfragen. \nEr steht Ihnen innerhalb unseres CDH Angebotes gerne zur Seite\, um Ihnen positive Impulse beim erfolgreichen Verkaufen zu geben!“ \nDas sagen unsere Mitglieder
URL:https://cdh-mitte.de/event/vertriebssprechstunde-2/
LOCATION:Rückforderung der Corona-Soforthilfe bei vorheriger Zahlungsunfähigkeit
CATEGORIES:CDH Mitte Veranstaltungen,Vertriebssprechstunde
ATTACH;FMTTYPE=image/jpeg:https://cdh.de/wp-content/uploads/2025/12/Aktuell-2024-Vertriebssprechstunde.jpg
END:VEVENT
END:VCALENDAR